BEGIN:VCALENDAR
VERSION:2.0
PRODID:-//EOAI-AFRICA - ECPv6.15.20//NONSGML v1.0//EN
CALSCALE:GREGORIAN
METHOD:PUBLISH
X-WR-CALNAME:EOAI-AFRICA
X-ORIGINAL-URL:https://eoai-africa.org
X-WR-CALDESC:Events for EOAI-AFRICA
REFRESH-INTERVAL;VALUE=DURATION:PT1H
X-Robots-Tag:noindex
X-PUBLISHED-TTL:PT1H
BEGIN:VTIMEZONE
TZID:UTC
BEGIN:STANDARD
TZOFFSETFROM:+0000
TZOFFSETTO:+0000
TZNAME:UTC
DTSTART:20220101T000000
END:STANDARD
END:VTIMEZONE
BEGIN:VEVENT
DTSTART;TZID=UTC:20231206T151500
DTEND;TZID=UTC:20231206T163000
DTSTAMP:20260424T085203
CREATED:20231206T100208Z
LAST-MODIFIED:20231206T100208Z
UID:5660-1701875700-1701880200@eoai-africa.org
SUMMARY:Food Systems part of the climate solution: AgroEcology at scale - European Union Side events for COP 28.
DESCRIPTION:Happening Now at the European Union Side events for COP 28.\n\n\nDr. David Amudavi\, Executive Director at Biovision Africa Trust\, is set to be a speaker at the 2023 European Union Side events for COP 28. \nJoin us as he delves into the crucial theme “Food Systems part of the climate solution: Agroecology at Scale.” \n🌱 Don’t miss out on this insightful discussion! \nSecure your spot now by registering via the link below and be part of the conversation shaping sustainable change. \nRegistration link! \nhttps://www.cop28eusideevents.eu/e/programme?session=1842429&i=pqCBsMMji1vEMwzy9EXmxJ-SrEdUo8p9 \n  \n 
URL:https://eoai-africa.org/event/food-systems-part-of-the-climate-solution-agroecology-at-scale-european-union-side-events-for-cop-28/
CATEGORIES:agroecology,Nutrition and Food Security
ATTACH;FMTTYPE=image/png:https://eoai-africa.org/wp-content/uploads/2023/12/COP28-Flyer.png
END:VEVENT
BEGIN:VEVENT
DTSTART;VALUE=DATE:20230718
DTEND;VALUE=DATE:20230719
DTSTAMP:20260424T085203
CREATED:20230714T130835Z
LAST-MODIFIED:20230714T131044Z
UID:5453-1689638400-1689724799@eoai-africa.org
SUMMARY:INVITATION TO A RAPID ASSESSMENT STUDY ON THE CONTRIBUTION OF AGROECOLOGY ON NUTRITION AND FOOD SECURITY IN AFRICA USING SYSTEMS THINKING AND MODELLING
DESCRIPTION:As one of the key Agroecology stakeholders in Kenya\, we are inviting you to a one day Agroecology workshop next week on Tuesday 18th July 2023\, starting 8.30am at the ICIPE Campus\, Bee health board room. \nThe aim of the workshop is to exchange ideas and perspectives on agroecology (AE) and its adoption and to engage you in a phase of participatory modeling. \nThe workshop has been designed in two main parts: \n\nUndertake discussions on practice of agroecology and its contribution to food nutrition and security\nBuild a concept model for agroecology adaptation for policy influence\n\nThe workshop is part of an  Eastern Africa project that has been awarded to BvAT by the US Department of State at the Africa Union ( USAU) for a period of 1 year. The purpose of this project is to implement activities that will document comprehensive evidence on the contribution of agroecology to nutrition and food security. \nIt is expected that the project will build foundations for engagement with policy makers and influence decisions on investments and mainstreaming of agroecology in the Eastern Africa region. Additionally\, the project will help build a critical mass (multistakeholder) for sustaining results achieved through the project. \nThis workshop will therefore form the main data generation process through mental modelling to provide a causal loop diagram (CLD) on factors that affect Agroecology adoption and its contribution to nutrition and food security.
URL:https://eoai-africa.org/event/invitation-to-a-rapid-assessment-study-on-the-contribution-of-agroecology/
LOCATION:ICIPE Campus\, Bee health board room.\, Kasarani\, QVHW+6MJ Nairobi\, Kenya
CATEGORIES:agroecology,Nutrition and Food Security
ATTACH;FMTTYPE=image/png:https://eoai-africa.org/wp-content/uploads/2023/07/FLYER.png
END:VEVENT
END:VCALENDAR