BEGIN:VCALENDAR
VERSION:2.0
PRODID:-//EOAI-AFRICA - ECPv6.15.20//NONSGML v1.0//EN
CALSCALE:GREGORIAN
METHOD:PUBLISH
X-ORIGINAL-URL:https://eoai-africa.org
X-WR-CALDESC:Events for EOAI-AFRICA
REFRESH-INTERVAL;VALUE=DURATION:PT1H
X-Robots-Tag:noindex
X-PUBLISHED-TTL:PT1H
BEGIN:VTIMEZONE
TZID:UTC
BEGIN:STANDARD
TZOFFSETFROM:+0000
TZOFFSETTO:+0000
TZNAME:UTC
DTSTART:20210101T000000
END:STANDARD
END:VTIMEZONE
BEGIN:VEVENT
DTSTART;TZID=UTC:20231206T151500
DTEND;TZID=UTC:20231206T163000
DTSTAMP:20260424T071201
CREATED:20231206T100208Z
LAST-MODIFIED:20231206T100208Z
UID:5660-1701875700-1701880200@eoai-africa.org
SUMMARY:Food Systems part of the climate solution: AgroEcology at scale - European Union Side events for COP 28.
DESCRIPTION:Happening Now at the European Union Side events for COP 28.\n\n\nDr. David Amudavi\, Executive Director at Biovision Africa Trust\, is set to be a speaker at the 2023 European Union Side events for COP 28. \nJoin us as he delves into the crucial theme “Food Systems part of the climate solution: Agroecology at Scale.” \n🌱 Don’t miss out on this insightful discussion! \nSecure your spot now by registering via the link below and be part of the conversation shaping sustainable change. \nRegistration link! \nhttps://www.cop28eusideevents.eu/e/programme?session=1842429&i=pqCBsMMji1vEMwzy9EXmxJ-SrEdUo8p9 \n  \n 
URL:https://eoai-africa.org/event/food-systems-part-of-the-climate-solution-agroecology-at-scale-european-union-side-events-for-cop-28/
CATEGORIES:agroecology,Nutrition and Food Security
ATTACH;FMTTYPE=image/png:https://eoai-africa.org/wp-content/uploads/2023/12/COP28-Flyer.png
END:VEVENT
BEGIN:VEVENT
DTSTART;VALUE=DATE:20230718
DTEND;VALUE=DATE:20230719
DTSTAMP:20260424T071201
CREATED:20230714T130835Z
LAST-MODIFIED:20230714T131044Z
UID:5453-1689638400-1689724799@eoai-africa.org
SUMMARY:INVITATION TO A RAPID ASSESSMENT STUDY ON THE CONTRIBUTION OF AGROECOLOGY ON NUTRITION AND FOOD SECURITY IN AFRICA USING SYSTEMS THINKING AND MODELLING
DESCRIPTION:As one of the key Agroecology stakeholders in Kenya\, we are inviting you to a one day Agroecology workshop next week on Tuesday 18th July 2023\, starting 8.30am at the ICIPE Campus\, Bee health board room. \nThe aim of the workshop is to exchange ideas and perspectives on agroecology (AE) and its adoption and to engage you in a phase of participatory modeling. \nThe workshop has been designed in two main parts: \n\nUndertake discussions on practice of agroecology and its contribution to food nutrition and security\nBuild a concept model for agroecology adaptation for policy influence\n\nThe workshop is part of an  Eastern Africa project that has been awarded to BvAT by the US Department of State at the Africa Union ( USAU) for a period of 1 year. The purpose of this project is to implement activities that will document comprehensive evidence on the contribution of agroecology to nutrition and food security. \nIt is expected that the project will build foundations for engagement with policy makers and influence decisions on investments and mainstreaming of agroecology in the Eastern Africa region. Additionally\, the project will help build a critical mass (multistakeholder) for sustaining results achieved through the project. \nThis workshop will therefore form the main data generation process through mental modelling to provide a causal loop diagram (CLD) on factors that affect Agroecology adoption and its contribution to nutrition and food security.
URL:https://eoai-africa.org/event/invitation-to-a-rapid-assessment-study-on-the-contribution-of-agroecology/
LOCATION:ICIPE Campus\, Bee health board room.\, Kasarani\, QVHW+6MJ Nairobi\, Kenya
CATEGORIES:agroecology,Nutrition and Food Security
ATTACH;FMTTYPE=image/png:https://eoai-africa.org/wp-content/uploads/2023/07/FLYER.png
END:VEVENT
BEGIN:VEVENT
DTSTART;VALUE=DATE:20230321
DTEND;VALUE=DATE:20230325
DTSTAMP:20260424T071202
CREATED:20230113T132653Z
LAST-MODIFIED:20230113T133317Z
UID:5085-1679356800-1679702399@eoai-africa.org
SUMMARY:1ST EASTERN AFRICA AGROECOLOGY CONFERENCE (EAAC)
DESCRIPTION:THE 2023  EASTERN AFRICA AGROECOLOGY CONFERENCE (EAAC)\nThe Conference Organizing Committee (COC) of the 1st Eastern Africa Agroecology Conference to be held from 21st to 24th March 2023 in Nairobi\, Kenya\, wishes to invite individuals\, organizations and networks to this great conference to register for participation. \nThis conference aims to invoke consciousness and motivate regional and continental communities to dialogue how to invest in interventions which can ameliorate the negative impacts of the current unsustainable food systems by transitioning towards more environmentally friendly solutions with long-term vision and planning. \nThe conference will be held in Nairobi\, Kenya\, at Safari Park Hotel from 21st – 24th March 2023 and will include exhibitions\, plenary and breakout sessions as well as field excursions to agroecological enterprises. The conference will be a hybrid event comprising in-person attendance and livestreaming for online participants \nConference Title: 1st Eastern Africa Agroecology Conference: Transforming Food Systems for Responsible Production\, Consumption and Social wellbeing.\nConference Theme: Strengthening Resilience and Sustainability in Food Systems for Environmental and Socioeconomic Development. \nShared Vision: Access to sufficient and healthy food for all\, produced in a way that respects the environment and provides fair income to producers. \nPurpose of the conference: Contributing to the sustainable transformation of food systems towards responsible production\, consumption\, and markets in Eastern Africa\, from farm to plate. \nConference sub-themes \n\nProduction\, productivity\, scaling up and sustainability of farming systems based on environmentally friendly technologies and methodologies\nBest practices towards food security\, nutrition\, consumption\, and health: Soil health and farmer managed seed systems\nWomen and Youth in agroecology\nEcological organic trade\, markets\, and economy\nInstitutional and policy drivers for agroecology transformations\nFinancing agroecological transformations.\n\nExpected Outcomes \n\nEmbraced overall food systems transformation agenda in Eastern Africa in line with agroecological principles and practices.\nConnected and strengthened ecosystem of organizations and initiatives working towards food systems transformation based on agroecology\nAdvanced strategies and joint initiatives on key levers for food systems transformation (knowledge generation & dissemination\, policy reform\, market systems development\, investments – amongst others).\nEnhanced support and implementation of agroecology-oriented policies from government institutions and other key stakeholders in the region.\n\nExpected Inputs \n\nKey challenges occasioned by rapid changes in agriculture and their impact on people\, crops and the environment\, and possible mitigation measures identified.\nAwareness about the potential of agroecology for sustainable production\, consumption and contribution to green economy created.\nSuccessful examples and initiatives that show agroecology works showcased and amplified.\nOpportunities for strengthening agroecology agenda and practice identified and action plans created\nConference report\, conference resolutions\, policy brief (or conference journal). Key elements of the conference declaration will be developed in advance and backed up during the conference.\n\nDate and Venue  \nThe conference will be held in Nairobi\, Kenya\, at Safari Park Hotel from 21st – 24th March 2023 and will include exhibitions\, plenary and breakout sessions as well as field excursions to agroecological enterprises. \nThe conference will be a hybrid event comprising in-person attendance and livestreaming for online participants \nTarget Groups \nThe Conference will bring together over 500 participants (300 physical\, 200 virtual) and 50 exhibitors from various countries who have a strong interest in the growth and development of agroecology. Specifically\, the participants will include: \n\nPolicy makers and governments\, representatives from various related line Ministries (agriculture\, health\, environment\, water\, etc.) at national and regional levels\nOrganizations and initiatives working towards food systems transformation.\nFarmers and Farmer Organizations\nCivil Society Organizations including consumer associations\nPrivate sector\nStrategic partners and donor agencies\nAcademia and research institutions\nLocal\, national\, regional and international media\n\nCALL FOR ABSTRACT FOR PAPERS\, POSTERS AND EXHIBITIONS\nThe Conference Organizing Committee (COC) of the 1st Eastern Africa Agroecology Conference to be held from 21st – 24th March 2023 invites calls for abstracts for papers\, posters and exhibitions from interested researchers and practitioners. \nTypes of Abstracts for papers\, posters and exhibitions \nThe conference will be hybrid to provide an opportunity for researchers and academia to present their work and for farmers\, practitioners and policymakers to share their experiences and/or advocate for certain interventions and pathways. The conference will therefore accept abstracts and posters within the following categories: \n\nTraditional academic/research abstracts\,\nPractitioners’ views and experiences\nPolicy briefs.\nCreative arts (spoken word\, animations\, music\, graffiti\, dance\, paintings etc.)\nExhibitions and side events\n\nAbstract submissions should be structured as follows: \n❖ For Papers and Posters \n\nIntroduction\nSignificance (of the research or issue)\nMethodology/approach (used to gather the data or information)\nResults (key findings or experiences)\nConclusion (final verdict and recommendations)\nAbstracts: Number of words: 500\, Font: Times New Roman\, Size:12\, spacing 1.5\nFull Papers: Number of words: 7000-8000\, Font: Times New Roman\, Size:12\, spacing 1.5\n\n❖ For Exhibitions and Side Events \n\nAny individual or organization interested in participating in the conference through exhibition or side event must submit a proposal including detailed description of the proposed exhibition or side event\, including an explanation of how its thematic focus relates to the conference theme “Strengthening Resilience and Sustainability in Food Systems for Environmental and Socioeconomic Development”\, and the six sub-themes of the conference.\nKindly attach detailed description of the exhibition or side event\, including all organizing partners\, elements of the exhibition/side event\, dimensions and the thematic focus.\n\nSubmission deadline: \n\nSending out a call for abstracts: 1st December 2022\nDeadline for abstract submission: 30th January 2023\nCommunication to accepted abstracts and call for full papers: 6th February 2023\nReceipt of full revised abstract: 9th February 2023\nReceipt of full papers: 23rd February 2023\nReview of full papers/presentations: 10th March 2023\nCorrections and submissions: 17th March 2023\nPublication of final conference program: 15th February 2023\nPublication of conference abstracts: 28th February 2023\n\nFor more information on submission for coalls for abstract for papers\, posters and exhibitions visit the conference website https://ea-agroecologyconference.org/ \nCONFERENCE REGISTRATION \nThe Conference Organizing Committee (COC) of the 1st Eastern Africa Agroecology Conference to be held from 21st to 24th March 2023 in Nairobi\, Kenya\, wishes to invite individuals\, organizations and networks to this great conference to register for participation. \nCONFERENCE FEES \n\n\n\nDelegate type\nAmount (US Dollars\nEarly Bird Prices(US Dollars)\n\n\nParticipants attending physical conference\n$200\n$150\n\n\nParticipants attending virtually \n$150\n\n\n\nStudents \n$100\n\n\n\nFarmers\n$100\n\n\n\nExhibitions\n$500\n\n\n\n\nNote: The deadline for registration is 17th March 2023  and the early bird price  for Normal delegates ends on 30st Jan 2023. Hurry before time runs out!. \nFor more information on registration fees and how to register\, visit the conference website www.ea-agroecologyconference.org/  or send us an email to info@ea-agroecologyconference.org \nFor more details get the Printable version(pdf) here \n\nConcept Note of the Eastern Africa Agroecology Conference\nCall for Abstract for papers\, posters and exhibitions\nEastern Africa Agroecology Conference Registration
URL:https://eoai-africa.org/event/1st-eastern-africa-agroecology-conference-eaac/
LOCATION:Safari Park Hotel& Casino\, QVFM+H6\, Nairobi\, Kenya
CATEGORIES:agroecology,Organic Agriculture
ATTACH;FMTTYPE=image/png:https://eoai-africa.org/wp-content/uploads/2023/01/Conference-Registration-flyer-2.png
END:VEVENT
BEGIN:VEVENT
DTSTART;TZID=UTC:20221028T090000
DTEND;TZID=UTC:20221028T090000
DTSTAMP:20260424T071202
CREATED:20221027T054604Z
LAST-MODIFIED:20221027T054604Z
UID:4776-1666947600-1666947600@eoai-africa.org
SUMMARY:BVAT Hosts The Agricultural Committee Of The German Parliament
DESCRIPTION:Biovision Africa Trust is delighted to host the Agricultural Committee of the German Parliament. The event will be held on Friday 28th October 2022 at Biovision Africa Trust Offices starting from 9.00am EAT. \nThe Activities for the event include \n\nExhibitions for core programs\,\nNetworking Session\,\nPress conference and\,\nExecutive Director Presentation to delegation.
URL:https://eoai-africa.org/event/bvat-hosts-the-agricultural-committee-of-the-german-parliament/
LOCATION:Biovision Africa Trust Offices-ICIPE-Kenya\, icipe\, Duduville Campus\, Kasarani\, Nairobi\, 00100
CATEGORIES:agroecology,Organic Agriculture
ATTACH;FMTTYPE=image/jpeg:https://eoai-africa.org/wp-content/uploads/2022/10/WhatsApp-Image-2022-10-26-at-22.18.16.jpeg
END:VEVENT
BEGIN:VEVENT
DTSTART;TZID=UTC:20220623T090000
DTEND;TZID=UTC:20220623T120000
DTSTAMP:20260424T071202
CREATED:20220526T094820Z
LAST-MODIFIED:20220526T095102Z
UID:4636-1655974800-1655985600@eoai-africa.org
SUMMARY:“The interface between agroecology and territorial approaches for food systems transformation”.
DESCRIPTION:
URL:https://eoai-africa.org/event/the-interface-between-agroecology-and-territorial-approaches-for-food-systems-transformation/
LOCATION:Hybrid Event
CATEGORIES:agroecology,Organic Agriculture
ATTACH;FMTTYPE=image/png:https://eoai-africa.org/wp-content/uploads/2022/05/Agroecology-Dialogues.png
END:VEVENT
BEGIN:VEVENT
DTSTART;TZID=UTC:20220526T150000
DTEND;TZID=UTC:20220527T180000
DTSTAMP:20260424T071202
CREATED:20220526T134107Z
LAST-MODIFIED:20220526T141930Z
UID:4640-1653577200-1653674400@eoai-africa.org
SUMMARY:Biovision Africa Trust's EOA Initiative team of Dr. David Amudavi\, Alex Mutungi and Venancia Wambua are attending the Launch of the 3rd CAADP BR Critical analysis event.
DESCRIPTION:The Objectives of the launch of the Critical Analysis  \nThe objective of the meeting is to launch the critical analysis of the 3rd BR process. More specifically\, during the 2 half-days\, the meeting will aim to: \n\nBuild a common understanding of the Critical Analysis\, its objectives and the process envisaged.\nReview expectations and commitment of BR Task Force Technical Working Group members to continue supporting the BR process.\nProvide an opportunity for each Technical Working Group\, AUC\, AUDA\, RECS\, NSA’s to discuss issues pertinent to the Critical Analysis including:\n\nTWG group composition\nInitial reflections on challenges with assigned indicators\nA preliminary analysis of what needs to be done\nResources requirements\n\n\nDiscuss any progress on communications and advocacy of the 3rd BR so far.\n\nExpected Outputs \nThe expected outputs of this meeting will be as follows: \n\nThe objectives and process of the Critical analysis understood by all.\nAll the BR Technical Working Groups (TWGs) properly constituted with clear work plans for the Critical Analysis.\nAn initial discussion on data and process issues raised by stakeholders.\nThe critical analysis of the 3rd BR process launched.\n\nDate and Venue  \nThe meeting will be virtual and is expected to last 2 days (3-4 hours per day)\, on the 26th and 27th May 2022. \nParticipants  \nThe meeting will bring together AUC\, AUDA-NEPAD\, RECs\, AK2063\, FAO\, IFPRI\, AGRA\, BR Task Force leaders\, Technical Working Group leaders and members\, experts and stakeholders. Biovision Africa Trust is part of Ending Hunger Technical Working Group \nThe launch was officially opened by Godfrey Bahiigwa – Director\, AUC-DARBE.
URL:https://eoai-africa.org/event/biovision-africa-eoa-initiative-team-of-dr-david-amudavi-alex-mutungi-and-venancia-wambua-are-attending-the-launch-of-the-3rd-caadp-br-critical-analysis-event/
LOCATION:Virtual Zoom Meeting\, Kenya
CATEGORIES:agroecology,Knowledge Hub,Organic Agriculture
ATTACH;FMTTYPE=image/png:https://eoai-africa.org/wp-content/uploads/2022/05/AU-NEPAD.png
END:VEVENT
BEGIN:VEVENT
DTSTART;TZID=UTC:20220420T080000
DTEND;TZID=UTC:20220520T170000
DTSTAMP:20260424T071202
CREATED:20220421T113930Z
LAST-MODIFIED:20220421T113930Z
UID:4572-1650441600-1653066000@eoai-africa.org
SUMMARY:E-discussion: The co-creation\, sharing and dissemination of local innovations for healthy soils in Africa
DESCRIPTION:Welcome to the Family Farming & Agroecology Discussions Community of Practice (CoP)! \nThe objective of this group is to establish synergies\, connect existing organizations and networks and encourage proactive multi-stakeholder exchanges to enhance the community of practicioners on family farming and agroecology by co-creating and sharing knowledge through focused thematic discussions. \nEach discussion will be held around a theme chosen by the co-organizers for 4 weeks. The discussions is based on a brief paper introducing the theme\, providing general background and highlighting key questions to be considered to build a shared understanding on goals of the discussion. \nMain objectives of the Family Farming & Agroecology Community of Practice Discussions: – Facilitate open access online discussions on family farming and agroecology; – Provide a “purpose-driven” multi-stakeholder space to discuss specific theme and exchange knowledge on relevant topics for family farmers and agroecology practitioners; – Establish proactive synergies and collaborations among stakeholders and existing networks of practitioners from all levels working for the promotion of family farming and agroecology in Africa; – Increase awareness and enhance knowledge-sharing on family farming and agroecology. \nE-DISCUSSION ON THE CO-CREATION\, SHARING AND DISSEMINATION OF LOCAL INNOVATIONS FOR HEALTHY SOILS IN AFRICA 20TH APRIL – 20TH MAY 2022 \nThe FAO Family Farming & Agroecology Community of Practice in Africa is implementing a discussion on ‘The co-creation\, sharing and dissemination of local innovations for healthy soils in Africa’\, co-organized by key actors working for the promotion of family farming and agroecology in different regions and on different scales in Africa. \nThe discussion will be open from the 20th of April to the 20th of May. A background paper available in the library explains the theme of the discussion and highlights key questions to be considered. \nParticipants wishing to contribute to the discussion will post via email their contributions at familyfarmingandagroecologydiscussions@dgroups.org. \nTo join the community and see all contributions online\, please register and log in at https://dgroups.org/fao/familyfarming/agroecologydiscussions. \nThe initiative is co-organized by Access Agriculture\, Alliance for Food Sovereignty in Africa (AFSA)\, Biovision Africa Trust (BvAT)\, FAO Family Farming Knowledge Platform\, FAO Agroecology Knowledge Hub\, Pan-African Farmers Organization (PAFO)\, World Rural Forum.
URL:https://eoai-africa.org/event/e-discussion-the-co-creation-sharing-and-dissemination-of-local-innovations-for-healthy-soils-in-africa/
LOCATION:online
CATEGORIES:agroecology,Knowledge Hub,Organic Agriculture
ATTACH;FMTTYPE=image/png:https://eoai-africa.org/wp-content/uploads/2022/04/Fao.png
END:VEVENT
END:VCALENDAR